BEGIN:VCALENDAR
VERSION:2.0
PRODID:-//Marknadsföreningen i Sundsvall - ECPv6.15.19//NONSGML v1.0//EN
CALSCALE:GREGORIAN
METHOD:PUBLISH
X-ORIGINAL-URL:https://mfis.se
X-WR-CALDESC:Händelser för Marknadsföreningen i Sundsvall
REFRESH-INTERVAL;VALUE=DURATION:PT1H
X-Robots-Tag:noindex
X-PUBLISHED-TTL:PT1H
BEGIN:VTIMEZONE
TZID:Europe/Stockholm
BEGIN:DAYLIGHT
TZOFFSETFROM:+0100
TZOFFSETTO:+0200
TZNAME:CEST
DTSTART:20250330T010000
END:DAYLIGHT
BEGIN:STANDARD
TZOFFSETFROM:+0200
TZOFFSETTO:+0100
TZNAME:CET
DTSTART:20251026T010000
END:STANDARD
BEGIN:DAYLIGHT
TZOFFSETFROM:+0100
TZOFFSETTO:+0200
TZNAME:CEST
DTSTART:20260329T010000
END:DAYLIGHT
BEGIN:STANDARD
TZOFFSETFROM:+0200
TZOFFSETTO:+0100
TZNAME:CET
DTSTART:20261025T010000
END:STANDARD
BEGIN:DAYLIGHT
TZOFFSETFROM:+0100
TZOFFSETTO:+0200
TZNAME:CEST
DTSTART:20270328T010000
END:DAYLIGHT
BEGIN:STANDARD
TZOFFSETFROM:+0200
TZOFFSETTO:+0100
TZNAME:CET
DTSTART:20271031T010000
END:STANDARD
END:VTIMEZONE
BEGIN:VEVENT
DTSTART;TZID=Europe/Stockholm:20260508T113000
DTEND;TZID=Europe/Stockholm:20260508T130000
DTSTAMP:20260425T170739
CREATED:20260416T063525Z
LAST-MODIFIED:20260424T131933Z
UID:5258-1778239800-1778245200@mfis.se
SUMMARY:Så skapar vi attraktiva destinationer
DESCRIPTION:Vad är det som gör en plats lockande – inte bara att besöka\, utan att längta tillbaka till? Välkommen till en inspirerande lunchföreläsning där vi utforskar hur vi tillsammans kan skapa starka\, hållbara och attraktiva destinationer. \n\n\n\nUnder samtalet får du ta del av konkreta exempel\, insikter och erfarenheter från aktörer som arbetar i framkant med destinationsutveckling – från besöksnäring och platsutveckling till kreativa samarbeten och upplevelsedesign. Panelsamtalet leds genom olika perspektiv där vi diskuterar hur identitet\, samverkan och innovation kan bidra till att sätta en plats på kartan. \n\n\n\nPANELDELTAGARE \n\n\n\nJonas Svedin\, Marknadschef på High Coast Whisky.Jonas delar med sig av hur High Coast under många år byggt upp sin verksamhet med whiskyproduktion i högt tempo\, samtidigt som de aktivt arbetar med destinationsutveckling genom bland annat festival\, glamping och strategiska samarbeten. Ett aktuellt exempel är det kreativa samarbetet med Sqrtn Company – där whisky och kläddesign möts i satsningen The Great High Coast\, en hyllning till norrländskt hantverk\, kvalitet och identitet. \n\n\n\nVeronica Smedh\, Sommaren 2026 tar Veronica nästa kliv när hela huset blir Virriga. Inte bara bakverk\, utan också glass\, kök\, event och bar. Allt samlat på ett ställe men fortfarande samma tanke som från början: personligt\, levande och framför allt gott. \n\n\n\nFredrik Eriksson\, Destinationschef för Destination Sundsvall.Han ger sitt perspektiv på vad som krävs för att utveckla och stärka en plats över tid  och hur man skapar långsiktigt värde för både besökare och invånare. Han delar även med sig av några aktuella nyheter inom destinationen. \n\n\n\nHelena Brusell\, Verksamhetsledare och grundare av Trolska Skogen i Jättendal.Helena berättar om hur de arbetar med storytelling\, upplevelser och platsens unika karaktär för att skapa ett starkt besöksmål som bidrar till hela områdets attraktionskraft. \n\n\n\nMattias Peterson\, VD för Höga Kusten Destinationsutveckling.Med lång erfarenhet av plats- och stadsutveckling delar Mattias insikter om hur Höga Kusten arbetar strategiskt för att utveckla destinationen och stärka regionens positionVälkommen till ett lunchmöte där du får möjlighet att inspireras av ett samtal fyllt av idéer\, erfarenheter och framtidsperspektiv. \n\n\n\nI huvudet på: Stig Wiklund och Bengt-Göran Persson lanserar satsningen Framtidens Ledare för att lyfta unga som gör skillnad i samhället. \n\n\n\nUng Företagsamhet: Tracka UF med grabbarna Alfred och Leo som vann årets UF-företag\, årets innovation och årets tjänst på regionala UF-mässan och representerar Västernorrland på SM i Ung Företagsamhet nu i maj. \n\n\n\nPlats: Quality Hotel Sundsvall \n\n\n\nModerator: Agnes Trolle
URL:https://mfis.se/event/sa-skapar-vi-attraktiva-destinationer/
ATTACH;FMTTYPE=image/jpeg:https://mfis.se/wp-content/uploads/2026/04/platsvarumarket-11-original-534102-scaled.jpg
END:VEVENT
BEGIN:VEVENT
DTSTART;TZID=Europe/Stockholm:20260603T113000
DTEND;TZID=Europe/Stockholm:20260603T130000
DTSTAMP:20260425T170739
CREATED:20260416T063943Z
LAST-MODIFIED:20260416T063945Z
UID:5261-1780486200-1780491600@mfis.se
SUMMARY:Lunch Utan Slut på Bloco Sundsvall
DESCRIPTION:Vi bjuder in till traditionsenlig sommaravslutningslunch på BLOCO! Det blir en riktigt lyxig lunch som kittlar smaklökarna. För den som vill så stannar man kvar efter lunchen för fortsatta trevligheter.
URL:https://mfis.se/event/lunch-utan-slut-pa-bloco-sundsvall/
ATTACH;FMTTYPE=image/jpeg:https://mfis.se/wp-content/uploads/2026/04/bloco_sundsvall.jpg
END:VEVENT
END:VCALENDAR